BEGIN:VCALENDAR
VERSION:2.0
BEGIN:VEVENT
URL:https://notebuzzz.com/events/viewevent/5-new-event 
DTSTART:20171114T000000
DTEND:20171115T000000
SUMMARY:New Event
DESCRIPTION:
LOCATION:London
END:VEVENT
END:VCALENDAR