BEGIN:VCALENDAR
VERSION:2.0
BEGIN:VEVENT
URL:https://notebuzzz.com/events/viewevent/4-just-buggin 
DTSTART:20171111T220000
DTEND:20171112T023000
SUMMARY:JUST BUGGIN
DESCRIPTION:Venue: 1, Vernon Place, London WC1A 2EP
LOCATION:London
END:VEVENT
END:VCALENDAR